BEGIN:VCALENDAR
VERSION:2.0
PRODID:-//horsealert.local//NONSGML kigkonsult.se iCalcreator 2.10.5//
CALSCALE:GREGORIAN
X-WR-TIMEZONE:Europe/Dublin
BEGIN:VTIMEZONE
TZID:Etc/GMT-1
BEGIN:STANDARD
DTSTART:20010101T000000
TZOFFSETFROM:+0100
TZOFFSETTO:+0100
TZNAME:GMT +01:00
END:STANDARD
END:VTIMEZONE
BEGIN:VEVENT
UID:20260423T105047CEST-4685B0vABz@horsealert.local
DTSTAMP:20260423T080447Z
CATEGORIES:Horse Alerts
DESCRIPTION:Winner Bet And Watch Mares' Handicap Hurdle
DTSTART:20150922T171000
LOCATION:England
SUMMARY:Horse Racing:Winner Bet And Watch Mares' Handicap Hurdle
END:VEVENT
END:VCALENDAR
