BEGIN:VCALENDAR
VERSION:2.0
PRODID:-//horsealert.local//NONSGML kigkonsult.se iCalcreator 2.10.5//
CALSCALE:GREGORIAN
X-WR-TIMEZONE:Europe/Dublin
BEGIN:VTIMEZONE
TZID:Etc/GMT-1
BEGIN:STANDARD
DTSTART:20010101T000000
TZOFFSETFROM:+0100
TZOFFSETTO:+0100
TZNAME:GMT +01:00
END:STANDARD
END:VTIMEZONE
BEGIN:VEVENT
UID:20260423T104554CEST-1530MI7CEr@horsealert.local
DTSTAMP:20260423T080454Z
CATEGORIES:Horse Alerts
DESCRIPTION:Learn English At isehove.com/EBF Stallions Maiden Stakes (Plus 
 10)
DTSTART:20150921T144000
LOCATION:England
SUMMARY:Horse Racing:Learn English At isehove.com/EBF Stallions Maiden Stak
 es (Plus 10)
END:VEVENT
END:VCALENDAR
