BEGIN:VCALENDAR
VERSION:2.0
PRODID:-//horsealert.local//NONSGML kigkonsult.se iCalcreator 2.10.5//
CALSCALE:GREGORIAN
X-WR-TIMEZONE:Europe/Dublin
BEGIN:VTIMEZONE
TZID:Etc/GMT-1
BEGIN:STANDARD
DTSTART:20010101T000000
TZOFFSETFROM:+0100
TZOFFSETTO:+0100
TZNAME:GMT +01:00
END:STANDARD
END:VTIMEZONE
BEGIN:VEVENT
UID:20260423T104443CEST-2320VAjzC3@horsealert.local
DTSTAMP:20260423T080443Z
CATEGORIES:Horse Alerts
DESCRIPTION:Play Scoop6Soccer At totesport.com Handicap
DTSTART:20150921T172000
LOCATION:Scotland
SUMMARY:Horse Racing:Play Scoop6Soccer At totesport.com Handicap
END:VEVENT
END:VCALENDAR
