BEGIN:VCALENDAR
VERSION:2.0
PRODID:-//horsealert.local//NONSGML kigkonsult.se iCalcreator 2.10.5//
CALSCALE:GREGORIAN
X-WR-TIMEZONE:Europe/Dublin
BEGIN:VTIMEZONE
TZID:Etc/GMT-1
BEGIN:STANDARD
DTSTART:20010101T000000
TZOFFSETFROM:+0100
TZOFFSETTO:+0100
TZNAME:GMT +01:00
END:STANDARD
END:VTIMEZONE
BEGIN:VEVENT
UID:20260423T105007CEST-7734gsvXwn@horsealert.local
DTSTAMP:20260423T080407Z
CATEGORIES:Horse Alerts
DESCRIPTION:First Twilight Maiden Hurdle
DTSTART:20150918T163000
LOCATION:England
SUMMARY:Horse Racing:First Twilight Maiden Hurdle
END:VEVENT
END:VCALENDAR
