BEGIN:VCALENDAR
VERSION:2.0
PRODID:-//horsealert.local//NONSGML kigkonsult.se iCalcreator 2.10.5//
CALSCALE:GREGORIAN
X-WR-TIMEZONE:Europe/Dublin
BEGIN:VTIMEZONE
TZID:Etc/GMT-1
BEGIN:STANDARD
DTSTART:20010101T000000
TZOFFSETFROM:+0100
TZOFFSETTO:+0100
TZNAME:GMT +01:00
END:STANDARD
END:VTIMEZONE
BEGIN:VEVENT
UID:20260423T104720CEST-3358FraGXT@horsealert.local
DTSTAMP:20260423T080420Z
CATEGORIES:Horse Alerts
DESCRIPTION:Tote Jackpot Guarantee Maiden
DTSTART:20150917T141500
LOCATION:Eire
SUMMARY:Horse Racing:Tote Jackpot Guarantee Maiden
END:VEVENT
END:VCALENDAR
