BEGIN:VCALENDAR
VERSION:2.0
PRODID:-//horsealert.local//NONSGML kigkonsult.se iCalcreator 2.10.5//
CALSCALE:GREGORIAN
X-WR-TIMEZONE:Europe/Dublin
BEGIN:VTIMEZONE
TZID:Etc/GMT-1
BEGIN:STANDARD
DTSTART:20010101T000000
TZOFFSETFROM:+0100
TZOFFSETTO:+0100
TZNAME:GMT +01:00
END:STANDARD
END:VTIMEZONE
BEGIN:VEVENT
UID:20260423T104744CEST-5548BdU5lV@horsealert.local
DTSTAMP:20260423T080444Z
CATEGORIES:Horse Alerts
DESCRIPTION:Plan Your Perfect Raceday With racinghospitality.com Median Auc
 tion Maiden Stakes
DTSTART:20150917T141000
LOCATION:England
SUMMARY:Horse Racing:Plan Your Perfect Raceday With racinghospitality.com M
 edian Auction Maiden Stakes
END:VEVENT
END:VCALENDAR
