BEGIN:VCALENDAR
VERSION:2.0
PRODID:-//horsealert.local//NONSGML kigkonsult.se iCalcreator 2.10.5//
CALSCALE:GREGORIAN
X-WR-TIMEZONE:Europe/Dublin
BEGIN:VTIMEZONE
TZID:Etc/GMT-1
BEGIN:STANDARD
DTSTART:20010101T000000
TZOFFSETFROM:+0100
TZOFFSETTO:+0100
TZNAME:GMT +01:00
END:STANDARD
END:VTIMEZONE
BEGIN:VEVENT
UID:20260423T104902CEST-6222wIFr3x@horsealert.local
DTSTAMP:20260423T080402Z
CATEGORIES:Horse Alerts
DESCRIPTION:Exchange Inn Ballybunion & Kevin Broderick's Bar Listowel Media
 n Auction Maiden
DTSTART:20150916T141000
LOCATION:Eire
SUMMARY:Horse Racing:Exchange Inn Ballybunion & Kevin Broderick's Bar Listo
 wel Median Auction Maiden
END:VEVENT
END:VCALENDAR
