BEGIN:VCALENDAR
VERSION:2.0
PRODID:-//horsealert.local//NONSGML kigkonsult.se iCalcreator 2.10.5//
CALSCALE:GREGORIAN
X-WR-TIMEZONE:Europe/Dublin
BEGIN:VTIMEZONE
TZID:Etc/GMT-1
BEGIN:STANDARD
DTSTART:20010101T000000
TZOFFSETFROM:+0100
TZOFFSETTO:+0100
TZNAME:GMT +01:00
END:STANDARD
END:VTIMEZONE
BEGIN:VEVENT
UID:20260423T104720CEST-0356ZSnPfb@horsealert.local
DTSTAMP:20260423T080420Z
CATEGORIES:Horse Alerts
DESCRIPTION:Scoop6Soccer The 1Million Football Bet Apprentice Training Seri
 es Classified Stakes
DTSTART:20150916T175000
LOCATION:England
SUMMARY:Horse Racing:Scoop6Soccer The 1Million Football Bet Apprentice Trai
 ning Series Classified Stakes
END:VEVENT
END:VCALENDAR
