BEGIN:VCALENDAR
VERSION:2.0
PRODID:-//horsealert.local//NONSGML kigkonsult.se iCalcreator 2.10.5//
CALSCALE:GREGORIAN
X-WR-TIMEZONE:Europe/Dublin
BEGIN:VTIMEZONE
TZID:Etc/GMT-1
BEGIN:STANDARD
DTSTART:20010101T000000
TZOFFSETFROM:+0100
TZOFFSETTO:+0100
TZNAME:GMT +01:00
END:STANDARD
END:VTIMEZONE
BEGIN:VEVENT
UID:20260423T104619CEST-4037FEkiu1@horsealert.local
DTSTAMP:20260423T080419Z
CATEGORIES:Horse Alerts
DESCRIPTION:Irish Stallion Farms European Breeders Fund 'Bold Lad' Sprint H
 andicap
DTSTART:20150913T140000
LOCATION:Eire
SUMMARY:Horse Racing:Irish Stallion Farms European Breeders Fund 'Bold Lad'
  Sprint Handicap
END:VEVENT
END:VCALENDAR
