BEGIN:VCALENDAR
VERSION:2.0
PRODID:-//horsealert.local//NONSGML kigkonsult.se iCalcreator 2.10.5//
CALSCALE:GREGORIAN
X-WR-TIMEZONE:Europe/Dublin
BEGIN:VTIMEZONE
TZID:Etc/GMT-1
BEGIN:STANDARD
DTSTART:20010101T000000
TZOFFSETFROM:+0100
TZOFFSETTO:+0100
TZNAME:GMT +01:00
END:STANDARD
END:VTIMEZONE
BEGIN:VEVENT
UID:20260423T104918CEST-8364UugU4u@horsealert.local
DTSTAMP:20260423T080418Z
CATEGORIES:Horse Alerts
DESCRIPTION:Irish Stallion Farms E.B.F. 'Petingo' Handicap (Premier Handica
 p)
DTSTART:20150912T164000
LOCATION:Eire
SUMMARY:Horse Racing:Irish Stallion Farms E.B.F. 'Petingo' Handicap (Premie
 r Handicap)
END:VEVENT
END:VCALENDAR
