BEGIN:VCALENDAR
VERSION:2.0
PRODID:-//horsealert.local//NONSGML kigkonsult.se iCalcreator 2.10.5//
CALSCALE:GREGORIAN
X-WR-TIMEZONE:Europe/Dublin
BEGIN:VTIMEZONE
TZID:Etc/GMT-1
BEGIN:STANDARD
DTSTART:20010101T000000
TZOFFSETFROM:+0100
TZOFFSETTO:+0100
TZNAME:GMT +01:00
END:STANDARD
END:VTIMEZONE
BEGIN:VEVENT
UID:20260423T104325CEST-6793a3uOM2@horsealert.local
DTSTAMP:20260423T080425Z
CATEGORIES:Horse Alerts
DESCRIPTION:Fly Aer Lingus From Doncaster Sheffield Flying Childers Stakes 
 (Group 2)
DTSTART:20150911T135500
LOCATION:England
SUMMARY:Horse Racing:Fly Aer Lingus From Doncaster Sheffield Flying Childer
 s Stakes (Group 2)
END:VEVENT
END:VCALENDAR
