BEGIN:VCALENDAR
VERSION:2.0
PRODID:-//horsealert.local//NONSGML kigkonsult.se iCalcreator 2.10.5//
CALSCALE:GREGORIAN
X-WR-TIMEZONE:Europe/Dublin
BEGIN:VTIMEZONE
TZID:Etc/GMT-1
BEGIN:STANDARD
DTSTART:20010101T000000
TZOFFSETFROM:+0100
TZOFFSETTO:+0100
TZNAME:GMT +01:00
END:STANDARD
END:VTIMEZONE
BEGIN:VEVENT
UID:20260423T105045CEST-2083v0Av67@horsealert.local
DTSTAMP:20260423T080445Z
CATEGORIES:Horse Alerts
DESCRIPTION:Bookmakers Offers Reviews At thebookiesoffers.co.uk Handicap (D
 iv 1)
DTSTART:20150910T171000
LOCATION:Wales
SUMMARY:Horse Racing:Bookmakers Offers Reviews At thebookiesoffers.co.uk Ha
 ndicap (Div 1)
END:VEVENT
END:VCALENDAR
