BEGIN:VCALENDAR
VERSION:2.0
PRODID:-//horsealert.local//NONSGML kigkonsult.se iCalcreator 2.10.5//
CALSCALE:GREGORIAN
X-WR-TIMEZONE:Europe/Dublin
BEGIN:VTIMEZONE
TZID:Etc/GMT-1
BEGIN:STANDARD
DTSTART:20010101T000000
TZOFFSETFROM:+0100
TZOFFSETTO:+0100
TZNAME:GMT +01:00
END:STANDARD
END:VTIMEZONE
BEGIN:VEVENT
UID:20260423T104156CEST-3608VGRdXK@horsealert.local
DTSTAMP:20260423T080456Z
CATEGORIES:Horse Alerts
DESCRIPTION:Book Your Xmas Party At Carlisle Racecourse Nursery (Div 1)
DTSTART:20150909T142000
LOCATION:England
SUMMARY:Horse Racing:Book Your Xmas Party At Carlisle Racecourse Nursery (D
 iv 1)
END:VEVENT
END:VCALENDAR
