BEGIN:VCALENDAR
VERSION:2.0
PRODID:-//horsealert.local//NONSGML kigkonsult.se iCalcreator 2.10.5//
CALSCALE:GREGORIAN
X-WR-TIMEZONE:Europe/Dublin
BEGIN:VTIMEZONE
TZID:Etc/GMT-1
BEGIN:STANDARD
DTSTART:20010101T000000
TZOFFSETFROM:+0100
TZOFFSETTO:+0100
TZNAME:GMT +01:00
END:STANDARD
END:VTIMEZONE
BEGIN:VEVENT
UID:20260423T104510CEST-89362X7AIO@horsealert.local
DTSTAMP:20260423T080410Z
CATEGORIES:Horse Alerts
DESCRIPTION:Pinnacle Racing Syndicate Shares Available Now Handicap \(Pinna
 cle Cup Straight Mile Series Qualifier\)
DTSTART:20150908T155000
LOCATION:England
SUMMARY:Horse Racing:Pinnacle Racing Syndicate Shares Available Now Handica
 p \(Pinnacle Cup Straight Mile Series Qualifier\)
END:VEVENT
END:VCALENDAR
