BEGIN:VCALENDAR
VERSION:2.0
PRODID:-//horsealert.local//NONSGML kigkonsult.se iCalcreator 2.10.5//
CALSCALE:GREGORIAN
X-WR-TIMEZONE:Europe/Dublin
BEGIN:VTIMEZONE
TZID:Etc/GMT-1
BEGIN:STANDARD
DTSTART:20010101T000000
TZOFFSETFROM:+0100
TZOFFSETTO:+0100
TZNAME:GMT +01:00
END:STANDARD
END:VTIMEZONE
BEGIN:VEVENT
UID:20260423T104349CEST-3716dMFIUf@horsealert.local
DTSTAMP:20260423T080449Z
CATEGORIES:Horse Alerts
DESCRIPTION:British Stallion Studs EBF Filbert Maiden Fillies\' Stakes \(Pl
 us 10\) \(Rnd\)
DTSTART:20150908T170500
LOCATION:England
SUMMARY:Horse Racing:British Stallion Studs EBF Filbert Maiden Fillies\' St
 akes \(Plus 10\) \(Rnd\)
END:VEVENT
END:VCALENDAR
