BEGIN:VCALENDAR
VERSION:2.0
PRODID:-//horsealert.local//NONSGML kigkonsult.se iCalcreator 2.10.5//
CALSCALE:GREGORIAN
X-WR-TIMEZONE:Europe/Dublin
BEGIN:VTIMEZONE
TZID:Etc/GMT-1
BEGIN:STANDARD
DTSTART:20010101T000000
TZOFFSETFROM:+0100
TZOFFSETTO:+0100
TZNAME:GMT +01:00
END:STANDARD
END:VTIMEZONE
BEGIN:VEVENT
UID:20260423T104549CEST-2295u68uvP@horsealert.local
DTSTAMP:20260423T080449Z
CATEGORIES:Horse Alerts
DESCRIPTION:Awesome Biscuits Maiden Fillies\' Stakes \(Plus 10\) \(Div 1\)
DTSTART:20150907T135000
LOCATION:England
SUMMARY:Horse Racing:Awesome Biscuits Maiden Fillies\' Stakes \(Plus 10\) \
 (Div 1\)
END:VEVENT
END:VCALENDAR
