BEGIN:VCALENDAR
VERSION:2.0
PRODID:-//horsealert.local//NONSGML kigkonsult.se iCalcreator 2.10.5//
CALSCALE:GREGORIAN
X-WR-TIMEZONE:Europe/Dublin
BEGIN:VTIMEZONE
TZID:Etc/GMT-1
BEGIN:STANDARD
DTSTART:20010101T000000
TZOFFSETFROM:+0100
TZOFFSETTO:+0100
TZNAME:GMT +01:00
END:STANDARD
END:VTIMEZONE
BEGIN:VEVENT
UID:20260423T104724CEST-4056KzLTjv@horsealert.local
DTSTAMP:20260423T080424Z
CATEGORIES:Horse Alerts
DESCRIPTION:EBF/Chandlers BMW Maiden Stakes
DTSTART:20150907T143000
LOCATION:England
SUMMARY:Horse Racing:EBF/Chandlers BMW Maiden Stakes
END:VEVENT
END:VCALENDAR
