BEGIN:VCALENDAR
VERSION:2.0
PRODID:-//horsealert.local//NONSGML kigkonsult.se iCalcreator 2.10.5//
CALSCALE:GREGORIAN
X-WR-TIMEZONE:Europe/Dublin
BEGIN:VTIMEZONE
TZID:Etc/GMT-1
BEGIN:STANDARD
DTSTART:20010101T000000
TZOFFSETFROM:+0100
TZOFFSETTO:+0100
TZNAME:GMT +01:00
END:STANDARD
END:VTIMEZONE
BEGIN:VEVENT
UID:20260423T104535CEST-8135ewUx3j@horsealert.local
DTSTAMP:20260423T080435Z
CATEGORIES:Horse Alerts
DESCRIPTION:Friday Horse Racing Returns 25th September Handicap \(47-65\) \
 (Div 1\)
DTSTART:20150906T161500
LOCATION:Eire
SUMMARY:Horse Racing:Friday Horse Racing Returns 25th September Handicap \(
 47-65\) \(Div 1\)
END:VEVENT
END:VCALENDAR
