BEGIN:VCALENDAR
VERSION:2.0
PRODID:-//horsealert.local//NONSGML kigkonsult.se iCalcreator 2.10.5//
CALSCALE:GREGORIAN
X-WR-TIMEZONE:Europe/Dublin
BEGIN:VTIMEZONE
TZID:Etc/GMT-1
BEGIN:STANDARD
DTSTART:20010101T000000
TZOFFSETFROM:+0100
TZOFFSETTO:+0100
TZNAME:GMT +01:00
END:STANDARD
END:VTIMEZONE
BEGIN:VEVENT
UID:20260423T104807CEST-5014VkR8lV@horsealert.local
DTSTAMP:20260423T080407Z
CATEGORIES:Horse Alerts
DESCRIPTION:Coopers Marquees Apprentice Handicap \(Leg Of The Go Racing In 
 Yorkshire Future Stars Series\)
DTSTART:20150906T171000
LOCATION:England
SUMMARY:Horse Racing:Coopers Marquees Apprentice Handicap \(Leg Of The Go R
 acing In Yorkshire Future Stars Series\)
END:VEVENT
END:VCALENDAR
