BEGIN:VCALENDAR
VERSION:2.0
PRODID:-//horsealert.local//NONSGML kigkonsult.se iCalcreator 2.10.5//
CALSCALE:GREGORIAN
X-WR-TIMEZONE:Europe/Dublin
BEGIN:VTIMEZONE
TZID:Etc/GMT-1
BEGIN:STANDARD
DTSTART:20010101T000000
TZOFFSETFROM:+0100
TZOFFSETTO:+0100
TZNAME:GMT +01:00
END:STANDARD
END:VTIMEZONE
BEGIN:VEVENT
UID:20260423T104717CEST-3175z6zk5t@horsealert.local
DTSTAMP:20260423T080417Z
CATEGORIES:Horse Alerts
DESCRIPTION:Personal Touches Celebration Handicap
DTSTART:20150905T154000
LOCATION:England
SUMMARY:Horse Racing:Personal Touches Celebration Handicap
END:VEVENT
END:VCALENDAR
