BEGIN:VCALENDAR
VERSION:2.0
PRODID:-//horsealert.local//NONSGML kigkonsult.se iCalcreator 2.10.5//
CALSCALE:GREGORIAN
X-WR-TIMEZONE:Europe/Dublin
BEGIN:VTIMEZONE
TZID:Etc/GMT-1
BEGIN:STANDARD
DTSTART:20010101T000000
TZOFFSETFROM:+0100
TZOFFSETTO:+0100
TZNAME:GMT +01:00
END:STANDARD
END:VTIMEZONE
BEGIN:VEVENT
UID:20260423T104616CEST-5916ON9Z8v@horsealert.local
DTSTAMP:20260423T080416Z
CATEGORIES:Horse Alerts
DESCRIPTION:Stonbury Maiden Stakes \(Rnd\)
DTSTART:20150904T152500
LOCATION:England
SUMMARY:Horse Racing:Stonbury Maiden Stakes \(Rnd\)
END:VEVENT
END:VCALENDAR
