BEGIN:VCALENDAR
VERSION:2.0
PRODID:-//horsealert.local//NONSGML kigkonsult.se iCalcreator 2.10.5//
CALSCALE:GREGORIAN
X-WR-TIMEZONE:Europe/Dublin
BEGIN:VTIMEZONE
TZID:Etc/GMT-1
BEGIN:STANDARD
DTSTART:20010101T000000
TZOFFSETFROM:+0100
TZOFFSETTO:+0100
TZNAME:GMT +01:00
END:STANDARD
END:VTIMEZONE
BEGIN:VEVENT
UID:20260423T104506CEST-5667zDCJAs@horsealert.local
DTSTAMP:20260423T080406Z
CATEGORIES:Horse Alerts
DESCRIPTION:J.N. Bentley Ltd/British Stallion Studs EBF Maiden Stakes \(Div
  1\)
DTSTART:20150904T132000
LOCATION:England
SUMMARY:Horse Racing:J.N. Bentley Ltd/British Stallion Studs EBF Maiden Sta
 kes \(Div 1\)
END:VEVENT
END:VCALENDAR
