BEGIN:VCALENDAR
VERSION:2.0
PRODID:-//horsealert.local//NONSGML kigkonsult.se iCalcreator 2.10.5//
CALSCALE:GREGORIAN
X-WR-TIMEZONE:Europe/Dublin
BEGIN:VTIMEZONE
TZID:Etc/GMT-1
BEGIN:STANDARD
DTSTART:20010101T000000
TZOFFSETFROM:+0100
TZOFFSETTO:+0100
TZNAME:GMT +01:00
END:STANDARD
END:VTIMEZONE
BEGIN:VEVENT
UID:20260423T104349CEST-09991eFM5K@horsealert.local
DTSTAMP:20260423T080449Z
CATEGORIES:Horse Alerts
DESCRIPTION:Sedgefield Bookmakers Conditional Jockeys\' Novices\' Hurdle \(
 Betfred Hurdle Series Qualifier\)
DTSTART:20150903T145000
LOCATION:England
SUMMARY:Horse Racing:Sedgefield Bookmakers Conditional Jockeys\' Novices\' 
 Hurdle \(Betfred Hurdle Series Qualifier\)
END:VEVENT
END:VCALENDAR
