BEGIN:VCALENDAR
VERSION:2.0
PRODID:-//horsealert.local//NONSGML kigkonsult.se iCalcreator 2.10.5//
CALSCALE:GREGORIAN
X-WR-TIMEZONE:Europe/Dublin
BEGIN:VTIMEZONE
TZID:Etc/GMT-1
BEGIN:STANDARD
DTSTART:20010101T000000
TZOFFSETFROM:+0100
TZOFFSETTO:+0100
TZNAME:GMT +01:00
END:STANDARD
END:VTIMEZONE
BEGIN:VEVENT
UID:20260423T104338CEST-34073SAtT4@horsealert.local
DTSTAMP:20260423T080438Z
CATEGORIES:Horse Alerts
DESCRIPTION:Piercy Properties Juvenile Hurdle \(Betfred Hurdle Series Quali
 fier\)
DTSTART:20150903T142000
LOCATION:England
SUMMARY:Horse Racing:Piercy Properties Juvenile Hurdle \(Betfred Hurdle Ser
 ies Qualifier\)
END:VEVENT
END:VCALENDAR
