BEGIN:VCALENDAR
VERSION:2.0
PRODID:-//horsealert.local//NONSGML kigkonsult.se iCalcreator 2.10.5//
CALSCALE:GREGORIAN
X-WR-TIMEZONE:Europe/Dublin
BEGIN:VTIMEZONE
TZID:Etc/GMT-1
BEGIN:STANDARD
DTSTART:20010101T000000
TZOFFSETFROM:+0100
TZOFFSETTO:+0100
TZNAME:GMT +01:00
END:STANDARD
END:VTIMEZONE
BEGIN:VEVENT
UID:20260423T104330CEST-22029biZvV@horsealert.local
DTSTAMP:20260423T080430Z
CATEGORIES:Horse Alerts
DESCRIPTION:Betfred \'Please Donate To Injured Jockeys Fund\' Handicap
DTSTART:20150904T150000
LOCATION:England
SUMMARY:Horse Racing:Betfred \'Please Donate To Injured Jockeys Fund\' Hand
 icap
END:VEVENT
END:VCALENDAR
