BEGIN:VCALENDAR
VERSION:2.0
PRODID:-//horsealert.local//NONSGML kigkonsult.se iCalcreator 2.10.5//
CALSCALE:GREGORIAN
X-WR-TIMEZONE:Europe/Dublin
BEGIN:VTIMEZONE
TZID:Etc/GMT-1
BEGIN:STANDARD
DTSTART:20010101T000000
TZOFFSETFROM:+0100
TZOFFSETTO:+0100
TZNAME:GMT +01:00
END:STANDARD
END:VTIMEZONE
BEGIN:VEVENT
UID:20260423T104743CEST-5530BdAIek@horsealert.local
DTSTAMP:20260423T080443Z
CATEGORIES:Horse Alerts
DESCRIPTION:Virginia Walwyn Memorial EBF Quidhampton Maiden Fillies\' Stake
 s \(Plus 10\) \(Div 2\)
DTSTART:20150903T151000
LOCATION:England
SUMMARY:Horse Racing:Virginia Walwyn Memorial EBF Quidhampton Maiden Fillie
 s\' Stakes \(Plus 10\) \(Div 2\)
END:VEVENT
END:VCALENDAR
