BEGIN:VCALENDAR
VERSION:2.0
PRODID:-//horsealert.local//NONSGML kigkonsult.se iCalcreator 2.10.5//
CALSCALE:GREGORIAN
X-WR-TIMEZONE:Europe/Dublin
BEGIN:VTIMEZONE
TZID:Etc/GMT-1
BEGIN:STANDARD
DTSTART:20010101T000000
TZOFFSETFROM:+0100
TZOFFSETTO:+0100
TZNAME:GMT +01:00
END:STANDARD
END:VTIMEZONE
BEGIN:VEVENT
UID:20260423T104436CEST-7626U3K8p5@horsealert.local
DTSTAMP:20260423T080436Z
CATEGORIES:Horse Alerts
DESCRIPTION:BettingGods.com Mares\' Handicap Hurdle
DTSTART:20150902T191000
LOCATION:England
SUMMARY:Horse Racing:BettingGods.com Mares\' Handicap Hurdle
END:VEVENT
END:VCALENDAR
