BEGIN:VCALENDAR
VERSION:2.0
PRODID:-//horsealert.local//NONSGML kigkonsult.se iCalcreator 2.10.5//
CALSCALE:GREGORIAN
X-WR-TIMEZONE:Europe/Dublin
BEGIN:VTIMEZONE
TZID:Etc/GMT-1
BEGIN:STANDARD
DTSTART:20010101T000000
TZOFFSETFROM:+0100
TZOFFSETTO:+0100
TZNAME:GMT +01:00
END:STANDARD
END:VTIMEZONE
BEGIN:VEVENT
UID:20260423T104338CEST-1553vEb4PP@horsealert.local
DTSTAMP:20260423T080438Z
CATEGORIES:Horse Alerts
DESCRIPTION:Countrywide Mobility Worcestershire\'s Premier Supplier Handica
 p Chase
DTSTART:20150902T174000
LOCATION:England
SUMMARY:Horse Racing:Countrywide Mobility Worcestershire\'s Premier Supplie
 r Handicap Chase
END:VEVENT
END:VCALENDAR
