BEGIN:VCALENDAR
VERSION:2.0
PRODID:-//horsealert.local//NONSGML kigkonsult.se iCalcreator 2.10.5//
CALSCALE:GREGORIAN
X-WR-TIMEZONE:Europe/Dublin
BEGIN:VTIMEZONE
TZID:Etc/GMT-1
BEGIN:STANDARD
DTSTART:20010101T000000
TZOFFSETFROM:+0100
TZOFFSETTO:+0100
TZNAME:GMT +01:00
END:STANDARD
END:VTIMEZONE
BEGIN:VEVENT
UID:20260423T105045CEST-1071CVfZSu@horsealert.local
DTSTAMP:20260423T080445Z
CATEGORIES:Horse Alerts
DESCRIPTION:British Stallion Studs EBF Rose Walsh Memorial Maiden Fillies\'
  Stakes \(Plus 10\)
DTSTART:20150902T150000
LOCATION:England
SUMMARY:Horse Racing:British Stallion Studs EBF Rose Walsh Memorial Maiden 
 Fillies\' Stakes \(Plus 10\)
END:VEVENT
END:VCALENDAR
