BEGIN:VCALENDAR
VERSION:2.0
PRODID:-//horsealert.local//NONSGML kigkonsult.se iCalcreator 2.10.5//
CALSCALE:GREGORIAN
X-WR-TIMEZONE:Europe/Dublin
BEGIN:VTIMEZONE
TZID:Etc/GMT-1
BEGIN:STANDARD
DTSTART:20010101T000000
TZOFFSETFROM:+0100
TZOFFSETTO:+0100
TZNAME:GMT +01:00
END:STANDARD
END:VTIMEZONE
BEGIN:VEVENT
UID:20260423T104744CEST-0889hcw2eB@horsealert.local
DTSTAMP:20260423T080444Z
CATEGORIES:Horse Alerts
DESCRIPTION:Caroline\'s Vision Celebration Handicap \(Jockey Club Grassroot
 s Flat Middle Distance Series Qualifier\)
DTSTART:20150901T161000
LOCATION:England
SUMMARY:Horse Racing:Caroline\'s Vision Celebration Handicap \(Jockey Club 
 Grassroots Flat Middle Distance Series Qualifier\)
END:VEVENT
END:VCALENDAR
