BEGIN:VCALENDAR
VERSION:2.0
PRODID:-//horsealert.local//NONSGML kigkonsult.se iCalcreator 2.10.5//
CALSCALE:GREGORIAN
X-WR-TIMEZONE:Europe/Dublin
BEGIN:VTIMEZONE
TZID:Etc/GMT-1
BEGIN:STANDARD
DTSTART:20010101T000000
TZOFFSETFROM:+0100
TZOFFSETTO:+0100
TZNAME:GMT +01:00
END:STANDARD
END:VTIMEZONE
BEGIN:VEVENT
UID:20260423T133843CEST-3832O54LzG@horsealert.local
DTSTAMP:20260423T110443Z
CATEGORIES:Horse Alerts
DESCRIPTION:Downe Travel & Royal Caribbean Best Dressed Lady Win A Cruise H
 andicap Hurdle
DTSTART:20150831T164000
LOCATION:Northern Ireland
SUMMARY:Horse Racing:Downe Travel & Royal Caribbean Best Dressed Lady Win A
  Cruise Handicap Hurdle
END:VEVENT
END:VCALENDAR
