BEGIN:VCALENDAR
VERSION:2.0
PRODID:-//horsealert.local//NONSGML kigkonsult.se iCalcreator 2.10.5//
CALSCALE:GREGORIAN
X-WR-TIMEZONE:Europe/Dublin
BEGIN:VTIMEZONE
TZID:Etc/GMT-1
BEGIN:STANDARD
DTSTART:20010101T000000
TZOFFSETFROM:+0100
TZOFFSETTO:+0100
TZNAME:GMT +01:00
END:STANDARD
END:VTIMEZONE
BEGIN:VEVENT
UID:20260423T133631CEST-0882evSwru@horsealert.local
DTSTAMP:20260423T110431Z
CATEGORIES:Horse Alerts
DESCRIPTION:Irish Stallion Farms European Breeders Fund \(C & G\) Maiden \(
 Plus 10\)
DTSTART:20150830T140500
LOCATION:Eire
SUMMARY:Horse Racing:Irish Stallion Farms European Breeders Fund \(C & G\) 
 Maiden \(Plus 10\)
END:VEVENT
END:VCALENDAR
