BEGIN:VCALENDAR
VERSION:2.0
PRODID:-//horsealert.local//NONSGML kigkonsult.se iCalcreator 2.10.5//
CALSCALE:GREGORIAN
X-WR-TIMEZONE:Europe/Dublin
BEGIN:VTIMEZONE
TZID:Etc/GMT-1
BEGIN:STANDARD
DTSTART:20010101T000000
TZOFFSETFROM:+0100
TZOFFSETTO:+0100
TZNAME:GMT +01:00
END:STANDARD
END:VTIMEZONE
BEGIN:VEVENT
UID:20260423T134137CEST-5075uJ8u2k@horsealert.local
DTSTAMP:20260423T110437Z
CATEGORIES:Horse Alerts
DESCRIPTION:Play scoop6soccer In Betfred Shops Apprentice Handicap
DTSTART:20150830T172500
LOCATION:England
SUMMARY:Horse Racing:Play scoop6soccer In Betfred Shops Apprentice Handicap
END:VEVENT
END:VCALENDAR
