BEGIN:VCALENDAR
VERSION:2.0
PRODID:-//horsealert.local//NONSGML kigkonsult.se iCalcreator 2.10.5//
CALSCALE:GREGORIAN
X-WR-TIMEZONE:Europe/Dublin
BEGIN:VTIMEZONE
TZID:Etc/GMT-1
BEGIN:STANDARD
DTSTART:20010101T000000
TZOFFSETFROM:+0100
TZOFFSETTO:+0100
TZNAME:GMT +01:00
END:STANDARD
END:VTIMEZONE
BEGIN:VEVENT
UID:20260423T134137CEST-5853wxmrFh@horsealert.local
DTSTAMP:20260423T110437Z
CATEGORIES:Horse Alerts
DESCRIPTION:EWGA Racing Excellence \'Hands And Heels\' Handicap Hurdle \(Co
 nditional Jockeys And Amateur Riders\)
DTSTART:20150829T173000
LOCATION:England
SUMMARY:Horse Racing:EWGA Racing Excellence \'Hands And Heels\' Handicap Hu
 rdle \(Conditional Jockeys And Amateur Riders\)
END:VEVENT
END:VCALENDAR
