BEGIN:VCALENDAR
VERSION:2.0
PRODID:-//horsealert.local//NONSGML kigkonsult.se iCalcreator 2.10.5//
CALSCALE:GREGORIAN
X-WR-TIMEZONE:Europe/Dublin
BEGIN:VTIMEZONE
TZID:Etc/GMT-1
BEGIN:STANDARD
DTSTART:20010101T000000
TZOFFSETFROM:+0100
TZOFFSETTO:+0100
TZNAME:GMT +01:00
END:STANDARD
END:VTIMEZONE
BEGIN:VEVENT
UID:20260423T134127CEST-9750Bv8GDm@horsealert.local
DTSTAMP:20260423T110427Z
CATEGORIES:Horse Alerts
DESCRIPTION:totepool Racing\'s Biggest Supporter Handicap Chase \(For The S
 adik Memorial Trophy\)
DTSTART:20150829T162500
LOCATION:England
SUMMARY:Horse Racing:totepool Racing\'s Biggest Supporter Handicap Chase \(
 For The Sadik Memorial Trophy\)
END:VEVENT
END:VCALENDAR
