BEGIN:VCALENDAR
VERSION:2.0
PRODID:-//horsealert.local//NONSGML kigkonsult.se iCalcreator 2.10.5//
CALSCALE:GREGORIAN
X-WR-TIMEZONE:Europe/Dublin
BEGIN:VTIMEZONE
TZID:Etc/GMT-1
BEGIN:STANDARD
DTSTART:20010101T000000
TZOFFSETFROM:+0100
TZOFFSETTO:+0100
TZNAME:GMT +01:00
END:STANDARD
END:VTIMEZONE
BEGIN:VEVENT
UID:20260423T133708CEST-0075TBV1gM@horsealert.local
DTSTAMP:20260423T110408Z
CATEGORIES:Horse Alerts
DESCRIPTION:Racing UK Day Pass Just 10 Lady Amateur Riders\' Handicap
DTSTART:20150829T172000
LOCATION:England
SUMMARY:Horse Racing:Racing UK Day Pass Just 10 Lady Amateur Riders\' Handi
 cap
END:VEVENT
END:VCALENDAR
