BEGIN:VCALENDAR
VERSION:2.0
PRODID:-//horsealert.local//NONSGML kigkonsult.se iCalcreator 2.10.5//
CALSCALE:GREGORIAN
X-WR-TIMEZONE:Europe/Dublin
BEGIN:VTIMEZONE
TZID:Etc/GMT-1
BEGIN:STANDARD
DTSTART:20010101T000000
TZOFFSETFROM:+0100
TZOFFSETTO:+0100
TZNAME:GMT +01:00
END:STANDARD
END:VTIMEZONE
BEGIN:VEVENT
UID:20260423T133940CEST-0220kJnhwv@horsealert.local
DTSTAMP:20260423T110440Z
CATEGORIES:Horse Alerts
DESCRIPTION:MTrec Recruitment Novices\' Hurdle \(Betfred Hurdle Series Qual
 ifier\)
DTSTART:20150827T173000
LOCATION:England
SUMMARY:Horse Racing:MTrec Recruitment Novices\' Hurdle \(Betfred Hurdle Se
 ries Qualifier\)
END:VEVENT
END:VCALENDAR
