BEGIN:VCALENDAR
VERSION:2.0
PRODID:-//horsealert.local//NONSGML kigkonsult.se iCalcreator 2.10.5//
CALSCALE:GREGORIAN
X-WR-TIMEZONE:Europe/Dublin
BEGIN:VTIMEZONE
TZID:Etc/GMT-1
BEGIN:STANDARD
DTSTART:20010101T000000
TZOFFSETFROM:+0100
TZOFFSETTO:+0100
TZNAME:GMT +01:00
END:STANDARD
END:VTIMEZONE
BEGIN:VEVENT
UID:20260423T133701CEST-0611T5J0kD@horsealert.local
DTSTAMP:20260423T110401Z
CATEGORIES:Horse Alerts
DESCRIPTION:Wolverhampton Tips At bookies.com Amateur Riders\' Handicap
DTSTART:20150827T181500
LOCATION:England
SUMMARY:Horse Racing:Wolverhampton Tips At bookies.com Amateur Riders\' Han
 dicap
END:VEVENT
END:VCALENDAR
