BEGIN:VCALENDAR
VERSION:2.0
PRODID:-//horsealert.local//NONSGML kigkonsult.se iCalcreator 2.10.5//
CALSCALE:GREGORIAN
X-WR-TIMEZONE:Europe/Dublin
BEGIN:VTIMEZONE
TZID:Etc/GMT-1
BEGIN:STANDARD
DTSTART:20010101T000000
TZOFFSETFROM:+0100
TZOFFSETTO:+0100
TZNAME:GMT +01:00
END:STANDARD
END:VTIMEZONE
BEGIN:VEVENT
UID:20260423T134001CEST-2527FZUg4P@horsealert.local
DTSTAMP:20260423T110401Z
CATEGORIES:Horse Alerts
DESCRIPTION:Lougher Stables Handicap \(47-70\)
DTSTART:20150826T184500
LOCATION:Eire
SUMMARY:Horse Racing:Lougher Stables Handicap \(47-70\)
END:VEVENT
END:VCALENDAR
