BEGIN:VCALENDAR
VERSION:2.0
PRODID:-//horsealert.local//NONSGML kigkonsult.se iCalcreator 2.10.5//
CALSCALE:GREGORIAN
X-WR-TIMEZONE:Europe/Dublin
BEGIN:VTIMEZONE
TZID:Etc/GMT-1
BEGIN:STANDARD
DTSTART:20010101T000000
TZOFFSETFROM:+0100
TZOFFSETTO:+0100
TZNAME:GMT +01:00
END:STANDARD
END:VTIMEZONE
BEGIN:VEVENT
UID:20260423T134000CEST-8211Vle6v4@horsealert.local
DTSTAMP:20260423T110400Z
CATEGORIES:Horse Alerts
DESCRIPTION:Winning Post Bookmakers Bristol Maiden Fillies\' Stakes \(Plus 
 10\)
DTSTART:20150825T143000
LOCATION:Wales
SUMMARY:Horse Racing:Winning Post Bookmakers Bristol Maiden Fillies\' Stake
 s \(Plus 10\)
END:VEVENT
END:VCALENDAR
