BEGIN:VCALENDAR
VERSION:2.0
PRODID:-//horsealert.local//NONSGML kigkonsult.se iCalcreator 2.10.5//
CALSCALE:GREGORIAN
X-WR-TIMEZONE:Europe/Dublin
BEGIN:VTIMEZONE
TZID:Etc/GMT-1
BEGIN:STANDARD
DTSTART:20010101T000000
TZOFFSETFROM:+0100
TZOFFSETTO:+0100
TZNAME:GMT +01:00
END:STANDARD
END:VTIMEZONE
BEGIN:VEVENT
UID:20260423T134202CEST-60571LpvUs@horsealert.local
DTSTAMP:20260423T110402Z
CATEGORIES:Horse Alerts
DESCRIPTION:Blueribandbet Always 7 Places On Golf Handicap
DTSTART:20150825T161500
LOCATION:England
SUMMARY:Horse Racing:Blueribandbet Always 7 Places On Golf Handicap
END:VEVENT
END:VCALENDAR
