BEGIN:VCALENDAR
VERSION:2.0
PRODID:-//horsealert.local//NONSGML kigkonsult.se iCalcreator 2.10.5//
CALSCALE:GREGORIAN
X-WR-TIMEZONE:Europe/Dublin
BEGIN:VTIMEZONE
TZID:Etc/GMT-1
BEGIN:STANDARD
DTSTART:20010101T000000
TZOFFSETFROM:+0100
TZOFFSETTO:+0100
TZNAME:GMT +01:00
END:STANDARD
END:VTIMEZONE
BEGIN:VEVENT
UID:20260423T133837CEST-9029SvrpZl@horsealert.local
DTSTAMP:20260423T110437Z
CATEGORIES:Horse Alerts
DESCRIPTION:Strongbow Cloudy Apple Handicap
DTSTART:20150824T192500
LOCATION:England
SUMMARY:Horse Racing:Strongbow Cloudy Apple Handicap
END:VEVENT
END:VCALENDAR
