BEGIN:VCALENDAR
VERSION:2.0
PRODID:-//horsealert.local//NONSGML kigkonsult.se iCalcreator 2.10.5//
CALSCALE:GREGORIAN
X-WR-TIMEZONE:Europe/Dublin
BEGIN:VTIMEZONE
TZID:Etc/GMT-1
BEGIN:STANDARD
DTSTART:20010101T000000
TZOFFSETFROM:+0100
TZOFFSETTO:+0100
TZNAME:GMT +01:00
END:STANDARD
END:VTIMEZONE
BEGIN:VEVENT
UID:20260423T134011CEST-0468VnmvXM@horsealert.local
DTSTAMP:20260423T110411Z
CATEGORIES:Horse Alerts
DESCRIPTION:SPM \(Scotland\) Novices\' Handicap Hurdle \(Strongbow Dark Fru
 it Scottish Hurdle Series Qualifier\)
DTSTART:20150822T155000
LOCATION:Scotland
SUMMARY:Horse Racing:SPM \(Scotland\) Novices\' Handicap Hurdle \(Strongbow
  Dark Fruit Scottish Hurdle Series Qualifier\)
END:VEVENT
END:VCALENDAR
