BEGIN:VCALENDAR
VERSION:2.0
PRODID:-//horsealert.local//NONSGML kigkonsult.se iCalcreator 2.10.5//
CALSCALE:GREGORIAN
X-WR-TIMEZONE:Europe/Dublin
BEGIN:VTIMEZONE
TZID:Etc/GMT-1
BEGIN:STANDARD
DTSTART:20010101T000000
TZOFFSETFROM:+0100
TZOFFSETTO:+0100
TZNAME:GMT +01:00
END:STANDARD
END:VTIMEZONE
BEGIN:VEVENT
UID:20260423T133839CEST-9202oiEOZ7@horsealert.local
DTSTAMP:20260423T110439Z
CATEGORIES:Horse Alerts
DESCRIPTION:Breast Cancer Research Debutante Stakes \(Fillies\' Group 2\)
DTSTART:20150822T161000
LOCATION:Eire
SUMMARY:Horse Racing:Breast Cancer Research Debutante Stakes \(Fillies\' Gr
 oup 2\)
END:VEVENT
END:VCALENDAR
