BEGIN:VCALENDAR
VERSION:2.0
PRODID:-//horsealert.local//NONSGML kigkonsult.se iCalcreator 2.10.5//
CALSCALE:GREGORIAN
X-WR-TIMEZONE:Europe/Dublin
BEGIN:VTIMEZONE
TZID:Etc/GMT-1
BEGIN:STANDARD
DTSTART:20010101T000000
TZOFFSETFROM:+0100
TZOFFSETTO:+0100
TZNAME:GMT +01:00
END:STANDARD
END:VTIMEZONE
BEGIN:VEVENT
UID:20260423T133714CEST-3752zM1noC@horsealert.local
DTSTAMP:20260423T110414Z
CATEGORIES:Horse Alerts
DESCRIPTION:Echo Falls Fruit Fusion / EBF Fillies\' Conditions Stakes \(Plu
 s 10\)
DTSTART:20150822T142000
LOCATION:England
SUMMARY:Horse Racing:Echo Falls Fruit Fusion / EBF Fillies\' Conditions Sta
 kes \(Plus 10\)
END:VEVENT
END:VCALENDAR
