BEGIN:VCALENDAR
VERSION:2.0
PRODID:-//horsealert.local//NONSGML kigkonsult.se iCalcreator 2.10.5//
CALSCALE:GREGORIAN
X-WR-TIMEZONE:Europe/Dublin
BEGIN:VTIMEZONE
TZID:Etc/GMT-1
BEGIN:STANDARD
DTSTART:20010101T000000
TZOFFSETFROM:+0100
TZOFFSETTO:+0100
TZNAME:GMT +01:00
END:STANDARD
END:VTIMEZONE
BEGIN:VEVENT
UID:20260423T133936CEST-351032wWZt@horsealert.local
DTSTAMP:20260423T110436Z
CATEGORIES:Horse Alerts
DESCRIPTION:Download The Free Racing Post Mobile App Handicap Hurdle \(Grad
 e C\)
DTSTART:20150821T193000
LOCATION:Eire
SUMMARY:Horse Racing:Download The Free Racing Post Mobile App Handicap Hurd
 le \(Grade C\)
END:VEVENT
END:VCALENDAR
