BEGIN:VCALENDAR
VERSION:2.0
PRODID:-//horsealert.local//NONSGML kigkonsult.se iCalcreator 2.10.5//
CALSCALE:GREGORIAN
X-WR-TIMEZONE:Europe/Dublin
BEGIN:VTIMEZONE
TZID:Etc/GMT-1
BEGIN:STANDARD
DTSTART:20010101T000000
TZOFFSETFROM:+0100
TZOFFSETTO:+0100
TZNAME:GMT +01:00
END:STANDARD
END:VTIMEZONE
BEGIN:VEVENT
UID:20260423T134131CEST-4525SX1kmU@horsealert.local
DTSTAMP:20260423T110431Z
CATEGORIES:Horse Alerts
DESCRIPTION:Molly Olly\'s Wishes Walk Amateur Riders\' Handicap Hurdle
DTSTART:20150820T171500
LOCATION:England
SUMMARY:Horse Racing:Molly Olly\'s Wishes Walk Amateur Riders\' Handicap Hu
 rdle
END:VEVENT
END:VCALENDAR
