BEGIN:VCALENDAR
VERSION:2.0
PRODID:-//horsealert.local//NONSGML kigkonsult.se iCalcreator 2.10.5//
CALSCALE:GREGORIAN
X-WR-TIMEZONE:Europe/Dublin
BEGIN:VTIMEZONE
TZID:Etc/GMT-1
BEGIN:STANDARD
DTSTART:20010101T000000
TZOFFSETFROM:+0100
TZOFFSETTO:+0100
TZNAME:GMT +01:00
END:STANDARD
END:VTIMEZONE
BEGIN:VEVENT
UID:20260423T133419CEST-18869nUasl@horsealert.local
DTSTAMP:20260423T110419Z
CATEGORIES:Horse Alerts
DESCRIPTION:Eventmasters 30 Years Of Hospitality Expertise EBF Stallions Fi
 llies\' Handicap
DTSTART:20150820T165500
LOCATION:England
SUMMARY:Horse Racing:Eventmasters 30 Years Of Hospitality Expertise EBF Sta
 llions Fillies\' Handicap
END:VEVENT
END:VCALENDAR
