BEGIN:VCALENDAR
VERSION:2.0
PRODID:-//horsealert.local//NONSGML kigkonsult.se iCalcreator 2.10.5//
CALSCALE:GREGORIAN
X-WR-TIMEZONE:Europe/Dublin
BEGIN:VTIMEZONE
TZID:Etc/GMT-1
BEGIN:STANDARD
DTSTART:20010101T000000
TZOFFSETFROM:+0100
TZOFFSETTO:+0100
TZNAME:GMT +01:00
END:STANDARD
END:VTIMEZONE
BEGIN:VEVENT
UID:20260423T133540CEST-7368BNV3Lw@horsealert.local
DTSTAMP:20260423T110440Z
CATEGORIES:Horse Alerts
DESCRIPTION:Independent Bookmaker Reviews From thebookiesoffers.co.uk Handi
 cap \(Div 1\)
DTSTART:20150820T155500
LOCATION:Wales
SUMMARY:Horse Racing:Independent Bookmaker Reviews From thebookiesoffers.co
 .uk Handicap \(Div 1\)
END:VEVENT
END:VCALENDAR
