BEGIN:VCALENDAR
VERSION:2.0
PRODID:-//horsealert.local//NONSGML kigkonsult.se iCalcreator 2.10.5//
CALSCALE:GREGORIAN
X-WR-TIMEZONE:Europe/Dublin
BEGIN:VTIMEZONE
TZID:Etc/GMT-1
BEGIN:STANDARD
DTSTART:20010101T000000
TZOFFSETFROM:+0100
TZOFFSETTO:+0100
TZNAME:GMT +01:00
END:STANDARD
END:VTIMEZONE
BEGIN:VEVENT
UID:20260423T133501CEST-1287Fdg31e@horsealert.local
DTSTAMP:20260423T110401Z
CATEGORIES:Horse Alerts
DESCRIPTION:Barry Walters Catering Maiden Stakes
DTSTART:20150819T163000
LOCATION:Wales
SUMMARY:Horse Racing:Barry Walters Catering Maiden Stakes
END:VEVENT
END:VCALENDAR
